BEGIN:VCALENDAR
VERSION:2.0
PRODID:-//wp-events-plugin.com//6.4.7.2//EN
BEGIN:VEVENT
UID:4@speed-junkies.de
DTSTART;TZID=Europe/Berlin;VALUE=DATE:20240804
DTEND;TZID=Europe/Berlin;VALUE=DATE:20240810
DTSTAMP:20240411T094016Z
URL:https://speed-junkies.de/veranstaltungen/husky-abenteuer-camp-04-08-20
 24-09-08-2024/
SUMMARY:Husky Abenteuer Camp (04.08.2024 - 09.08.2024)
DESCRIPTION:Mit Beginn des Camps startet für euch auch eine Husky-Patensch
 aft. Jeder von euch bekommt für die Dauer des Camps einen Patenhund\, mit
  dem ihr euch anfreunden könnt und Verantwortung übernehmt. Von lustigen
  Spielen und Streicheleinheiten bis hin zur Versorgung – bei eurer Paten
 schaft ist alles dabei. Das tägliche Ausmisten der Gehege\, Füttern und 
 Versorgen der Hunde steht mit auf dem Programm.\n\nSpiel und Spaß sollen 
 bei alledem natürlich auch nicht zu kurz kommen. In der Ruhezeit der Husk
 ys gehen wir verschiedenen Freizeitangeboten nach. Von klettern\, baden ge
 hen im Baggersee\, diversen Gruppenaktivitäten und noch viel mehr ist all
 es dabei\, also lasst Euch überraschen. Euch bleibt aber auch genug Freir
 aum und Freizeit und eigene Ideen zu entwickeln\, sowie für Entspannung.\
 n\n“Who let the dogs out?” Wir! Und zwar damit ihr Zeit mit ihnen verb
 ringen könnt. Bevor ihr allerdings auf eure neuen vierbeinigen Freunde tr
 efft\, bekommt ihr eine Einführung in den richtigen Umgang mit den Hunden
 . Wir legen im Camp großen Wert darauf\, dass ihr Wissen über die Huskys
  vermittelt bekommt. Natürlich gibt es auch genug Zeit\, um eure Fragen z
 u klären\, die ihr eventuell sogar schon mitgebracht habt. Ihr könnt euc
 h auf jeden Fall sicher sein\, dass ihr nach der Woche im Husky Camp beste
 ns über die felligen Freunde informiert seid.\n\nAm Ende des Camps werden
  deine Bemühungen mit einem persönlichen Husky-Diplom belohnt!\n\nAbends
  lassen wir den Tag gemeinsam ausklingen\, am Lagerfeuer\, bei einem gemü
 tlichen Filmabend oder bei einer Nachtwanderung. \n\nÜbernachten werdet 
 ihr je nach Witterung im Zelt\, unter freiem Sternenhimmel oder bei schlec
 htem Wetter in einem beheizten Raum.\n\nAlter: ab 9 Jahren\n\nDauer: Sonnt
 ag 15 Uhr Anreise – Freitag 14 Uhr Abreise\n\nPreis: pro Person € 620\
 , – all inklusive\n\nIm Preis enthalten\n\n&nbsp\;\n\n 	Ein Abenteuer-Ca
 mp mit 6 Tagen mit Spiel und Spaß\n 	Vollverpflegung\, gemeinsames Frühs
 tück\, Mittagessen\, Abendbrot\, Snacks\, Obst und Gemüse\n 	Getränke\n
  	Übernachtungen\n 	Aktivitäten auf der Husky Ranch\n 	Gruppenwanderunge
 n mit den Huskys\n 	ganztägige Betreuung\n 	Eintrittsgeld und Betreuung b
 ei allen Abenteuer- und Freizeitprogrammen\n 	Erinnerungsfoto mit deinem L
 ieblings Husky und ein Gruppenfoto gedruckt\n 	Material für Mal- und Bas
 telarbeiten\n 	Persönliches Husky-Diplom\n 	einwöchige Husky-Patenschaft
 \n\nWas bitte mitzubringen ist:\n\n 	gute Laune\n 	ausreichend Wechselklei
 dung\n 	Wetterfeste Kleidung\, Arbeitshandschuhe\n 	Feste Schuhe\n 	Schlaf
 sack und Isomatte\n 	Stirn- oder Taschenlampe\n 	Sonnenschutz und Insekten
 schutz\n 	Kappe\n 	Trinkflasche\n 	Handtücher\, Hygieneartikel\n 	Badesac
 hen\n\nUm den Kindern das volle Programm an Spiel\, Spaß und Abenteuer zu
  garantieren haben wir uns \, aus Planungstechnischen Gründen\, dazu ents
 chieden vorerst nur Buchungen für die erst Camp- Woche vom 28.07 - 02.08.
 24 anzunehmen. Bei Interesse für die zweite Camp - Woche vom 02.08 -09.08
 .24 könnt ihr uns gerne kontaktieren und einen Platz reservieren. Buchung
 en für diesen Zeitraum sind allerdings erst möglich sobald die erste Woc
 he belegt ist. \n\n&nbsp\;\n\n   
CATEGORIES:Husky Abendteuer Camp
LOCATION:Speed-Junkies\, Einöde 3\, Achstetten\, Baden-Württemberg\, 8848
 0 \, Deutschland
X-APPLE-STRUCTURED-LOCATION;VALUE=URI;X-ADDRESS=Einöde 3\, Achstetten\, Ba
 den-Württemberg\, 88480 \, Deutschland;X-APPLE-RADIUS=100;X-TITLE=Speed-J
 unkies:geo:0,0
END:VEVENT
BEGIN:VTIMEZONE
TZID:Europe/Berlin
X-LIC-LOCATION:Europe/Berlin
BEGIN:DAYLIGHT
DTSTART:20240331T030000
TZOFFSETFROM:+0100
TZOFFSETTO:+0200
TZNAME:CEST
END:DAYLIGHT
END:VTIMEZONE
END:VCALENDAR