BEGIN:VCALENDAR
VERSION:2.0
PRODID:-//wp-events-plugin.com//6.4.7.2//EN
BEGIN:VEVENT
UID:9@speed-junkies.de
DTSTART;TZID=Europe/Berlin;VALUE=DATE:20251019
DTEND;TZID=Europe/Berlin;VALUE=DATE:20251025
DTSTAMP:20250917T135146Z
URL:https://speed-junkies.de/veranstaltungen/husky-abenteuer-herbst-camp-1
 9-24-10-2025-ausgebucht/
SUMMARY:Husky Abenteuer Herbst Camp  19. -24 .10. 2025
DESCRIPTION:\n\nHusky Abenteuer Herbst Camp\n\n\n\n\n\n Husky Abenteuer Her
 bst Camp \n\nEin unvergessliches Erlebnis für alle Tierfreunde!\nMit Begi
 nn des Camps startet eure ganz persönliche Husky-Patenschaft: Jedes Kind 
 bekommt für die Dauer des Camps einen Patenhund – zum Spielen\, Kuschel
 n und Versorgen. Gemeinsam übernehmt ihr Verantwortung und erlebt\, wie e
 s ist\, Teil eines Husky-Rudels zu sein.\n\nAuf euch warten spannende Aufg
 aben: vom Füttern und Pflegen bis hin zum Training der Hunde. Das große 
 Highlight – jeder darf einmal bei einer Schlittenhundefahrt mitfahren! A
 ußerdem überraschen wir euch mit besonderen Programmpunkten\, bei denen 
 ihr die Kraft\, Ausdauer und Lebensfreude der Huskys hautnah miterlebt.\nU
 nd das Beste: Ihr seid die Ersten\, die unsere neuen Welpen kennenlernen u
 nd bei ihrer Versorgung helfen dürfen.\n\nNatürlich kommt auch der Spaß
  nicht zu kurz! In den Ruhepausen der Hunde geht es für euch zum Klettern
 \, Baden im Hallenbad\, zu tollen Gruppenaktivitäten – oder einfach zum
  Entspannen.\n\nDamit ihr bestens vorbereitet seid\, lernt ihr gleich zu B
 eginn den richtigen Umgang mit den Huskys. Am Ende der Woche seid ihr echt
 e Husky-Profis!\n\nAm Abend lassen wir die Tage gemeinsam ausklingen – b
 eim Lagerfeuer\, bei einem gemütlichen Filmabend oder auf einer Nachtwand
 erung. Übernachtet wird stilecht und kuschelig im Heulager auf dem Scheun
 enboden.\n\n Abenteuer\, Spiel\, Natur und jede Menge Hunde warten auf euc
 h – das Husky Abenteuer Herbst Camp! \n\nFAKTEN !\n\nDatum: 19-24. Oktob
 er 2025 Sonntag 15 Uhr Anreise – Freitag 14 Uhr Abreise\n\nAlter: ab 9 J
 ahren\n\n\n\nPreis: 680€\n\nIm Preis enthalten:\n\n 	Ein Abenteuer-Camp 
 mit 6 Tagen mit Spiel und Spaß\n 	Vollverpflegung\, gemeinsames Frühstü
 ck\, Mittagessen\, Abendbrot\, Snacks\, Obst und Gemüse\n 	Getränke\n 	
 Übernachtungen\n 	Aktivitäten auf der Husky Ranch\n 	Gruppenwanderungen 
 mit den Huskys\n 	ganztägige Betreuung\n 	Eintrittsgeld und Betreuung bei
  allen Abenteuer- und Freizeitprogrammen\n 	Erinnerungsfoto mit deinem Lie
 blings Husky und ein Gruppenfoto gedruckt\n 	Material für Mal- und Bastel
 arbeiten\n 	einwöchige Husky-Patenschaft\n\nWas bitte mitzubringen ist:\n
 \n 	gute Laune\n 	ausreichend Wechselkleidung\n 	Wetterfeste warme Kleidun
 g\n 	Handschuhe\, Mütze\, Schal\n 	Helm\n 	Feste wasserdichte Schuhe\n 	S
 chlafsack und Isomatte für kalte Nächte\n 	Stirn- oder Taschenlampe\n 	T
 rinkflasche\n 	Handtücher\, Hygieneartikel\n 	Badesachen\n 	Rucksack/ Spo
 rttasche\n\n\n\n&nbsp\;\n\n&nbsp\;
ATTACH;FMTTYPE=image/jpeg:https://speed-junkies.de/wp-content/uploads/2022
 /06/20220312_0814511-scaled.jpg
CATEGORIES:Husky Abendteuer Camp
LOCATION:Speed-Junkies\, Einöde 3\, Achstetten\, Baden-Württemberg\, 8848
 0 \, Deutschland
X-APPLE-STRUCTURED-LOCATION;VALUE=URI;X-ADDRESS=Einöde 3\, Achstetten\, Ba
 den-Württemberg\, 88480 \, Deutschland;X-APPLE-RADIUS=100;X-TITLE=Speed-J
 unkies:geo:0,0
END:VEVENT
BEGIN:VTIMEZONE
TZID:Europe/Berlin
X-LIC-LOCATION:Europe/Berlin
BEGIN:DAYLIGHT
DTSTART:20250330T030000
TZOFFSETFROM:+0100
TZOFFSETTO:+0200
TZNAME:CEST
END:DAYLIGHT
END:VTIMEZONE
END:VCALENDAR